BEGIN:VCALENDAR
VERSION:2.0
PRODID:-//軽井沢町議会議員 福本修 - ECPv6.9.0//NONSGML v1.0//EN
CALSCALE:GREGORIAN
METHOD:PUBLISH
X-ORIGINAL-URL:https://fukumoto.karuizawa.be
X-WR-CALDESC:軽井沢町議会議員 福本修 のイベント
REFRESH-INTERVAL;VALUE=DURATION:PT1H
X-Robots-Tag:noindex
X-PUBLISHED-TTL:PT1H
BEGIN:VTIMEZONE
TZID:Asia/Tokyo
BEGIN:STANDARD
TZOFFSETFROM:+0900
TZOFFSETTO:+0900
TZNAME:JST
DTSTART:20190101T000000
END:STANDARD
END:VTIMEZONE
BEGIN:VEVENT
DTSTART;TZID=Asia/Tokyo:20210417T130000
DTEND;TZID=Asia/Tokyo:20210417T170000
DTSTAMP:20260426T053153
CREATED:20210404T084755Z
LAST-MODIFIED:20210404T084755Z
UID:1501-1618664400-1618678800@fukumoto.karuizawa.be
SUMMARY:「森林療法」体験
DESCRIPTION:
URL:https://fukumoto.karuizawa.be/event/%e3%80%8c%e6%a3%ae%e6%9e%97%e7%99%82%e6%b3%95%e3%80%8d%e4%bd%93%e9%a8%93/
CATEGORIES:研修会・勉強会
END:VEVENT
BEGIN:VEVENT
DTSTART;TZID=Asia/Tokyo:20210318T100000
DTEND;TZID=Asia/Tokyo:20210318T170000
DTSTAMP:20260426T053153
CREATED:20210311T222814Z
LAST-MODIFIED:20210311T222814Z
UID:1488-1616061600-1616086800@fukumoto.karuizawa.be
SUMMARY:10時ー東御市バイオマス発電所
DESCRIPTION:東御市バイオマス発電所 \n  \n 
URL:https://fukumoto.karuizawa.be/event/shinshuwoodpower/
LOCATION:信州ウッドパワー\, 長野県東御市羽毛山字五輪立519-1
CATEGORIES:研修会・勉強会
END:VEVENT
BEGIN:VEVENT
DTSTART;TZID=Asia/Tokyo:20210209T133000
DTEND;TZID=Asia/Tokyo:20210209T150000
DTSTAMP:20260426T053153
CREATED:20210129T051054Z
LAST-MODIFIED:20210129T051054Z
UID:1427-1612877400-1612882800@fukumoto.karuizawa.be
SUMMARY:13:30-議員研修
DESCRIPTION:ZOOM受講。自宅可。
URL:https://fukumoto.karuizawa.be/event/giin_training20210209/
CATEGORIES:研修会・勉強会
END:VEVENT
BEGIN:VEVENT
DTSTART;TZID=Asia/Tokyo:20210203T110000
DTEND;TZID=Asia/Tokyo:20210203T170000
DTSTAMP:20260426T053153
CREATED:20210115T092855Z
LAST-MODIFIED:20210128T020227Z
UID:1382-1612350000-1612371600@fukumoto.karuizawa.be
SUMMARY:延期-議会-人権研究会
DESCRIPTION:
URL:https://fukumoto.karuizawa.be/event/11%e6%99%82-%e8%ad%b0%e4%bc%9a-%e4%ba%ba%e6%a8%a9%e7%a0%94%e7%a9%b6%e4%bc%9a/
CATEGORIES:研修会・勉強会
END:VEVENT
BEGIN:VEVENT
DTSTART;TZID=Asia/Tokyo:20201211T133000
DTEND;TZID=Asia/Tokyo:20201211T160000
DTSTAMP:20260426T053153
CREATED:20201130T091746Z
LAST-MODIFIED:20201130T091746Z
UID:1281-1607693400-1607702400@fukumoto.karuizawa.be
SUMMARY:13:30-間伐現地説明会
DESCRIPTION:
URL:https://fukumoto.karuizawa.be/event/forestcheck20201211/
CATEGORIES:研修会・勉強会,追分
END:VEVENT
BEGIN:VEVENT
DTSTART;TZID=Asia/Tokyo:20200423T110000
DTEND;TZID=Asia/Tokyo:20200423T170000
DTSTAMP:20260426T053153
CREATED:20200415T031242Z
LAST-MODIFIED:20200415T031242Z
UID:955-1587639600-1587661200@fukumoto.karuizawa.be
SUMMARY:全員協議会終了後LineWorks研修
DESCRIPTION:
URL:https://fukumoto.karuizawa.be/event/%e5%85%a8%e5%93%a1%e5%8d%94%e8%ad%b0%e4%bc%9a%e7%b5%82%e4%ba%86%e5%be%8clineworks%e7%a0%94%e4%bf%ae/
CATEGORIES:研修会・勉強会
END:VEVENT
BEGIN:VEVENT
DTSTART;TZID=Asia/Tokyo:20200406T130000
DTEND;TZID=Asia/Tokyo:20200406T142500
DTSTAMP:20260426T053153
CREATED:20200224T191729Z
LAST-MODIFIED:20200224T191845Z
UID:799-1586178000-1586183100@fukumoto.karuizawa.be
SUMMARY:12:45-軽中入学式
DESCRIPTION:多目的室にて13時から転退職職員紹介。
URL:https://fukumoto.karuizawa.be/event/2020juniorhigh_entrance_ceremony/
CATEGORIES:研修会・勉強会
END:VEVENT
BEGIN:VEVENT
DTSTART;TZID=Asia/Tokyo:20200220T130000
DTEND;TZID=Asia/Tokyo:20200220T143000
DTSTAMP:20260426T053153
CREATED:20200121T193810Z
LAST-MODIFIED:20200121T194112Z
UID:743-1582203600-1582209000@fukumoto.karuizawa.be
SUMMARY:13時-講演会-近代オリンピックと社会正義の実現
DESCRIPTION:軽井沢町　早稲田大学交流事業
URL:https://fukumoto.karuizawa.be/event/13%e6%99%82-%e8%ac%9b%e6%bc%94%e4%bc%9a-%e8%bf%91%e4%bb%a3%e3%82%aa%e3%83%aa%e3%83%b3%e3%83%94%e3%83%83%e3%82%af%e3%81%a8%e7%a4%be%e4%bc%9a%e6%ad%a3%e7%be%a9%e3%81%ae%e5%ae%9f%e7%8f%be/
LOCATION:軽井沢町中央公民館\, 長野県北佐久郡軽井沢町大字長倉２３５３−１
CATEGORIES:研修会・勉強会
END:VEVENT
BEGIN:VEVENT
DTSTART;TZID=Asia/Tokyo:20200212T090000
DTEND;TZID=Asia/Tokyo:20200212T113000
DTSTAMP:20260426T053153
CREATED:20200204T034114Z
LAST-MODIFIED:20200204T034114Z
UID:762-1581498000-1581507000@fukumoto.karuizawa.be
SUMMARY:９時与良館視察
DESCRIPTION:
URL:https://fukumoto.karuizawa.be/event/%ef%bc%99%e6%99%82%e4%b8%8e%e8%89%af%e9%a4%a8%e8%a6%96%e5%af%9f/
CATEGORIES:研修会・勉強会
END:VEVENT
BEGIN:VEVENT
DTSTART;TZID=Asia/Tokyo:20200210T140000
DTEND;TZID=Asia/Tokyo:20200210T160000
DTSTAMP:20260426T053153
CREATED:20200121T194601Z
LAST-MODIFIED:20200121T194601Z
UID:745-1581343200-1581350400@fukumoto.karuizawa.be
SUMMARY:14時-議員研修-ファシリテーター
DESCRIPTION:
URL:https://fukumoto.karuizawa.be/event/14%e6%99%82-%e8%ad%b0%e5%93%a1%e7%a0%94%e4%bf%ae-%e3%83%95%e3%82%a1%e3%82%b7%e3%83%aa%e3%83%86%e3%83%bc%e3%82%bf%e3%83%bc/
CATEGORIES:研修会・勉強会
END:VEVENT
BEGIN:VEVENT
DTSTART;VALUE=DATE:20200205
DTEND;VALUE=DATE:20200208
DTSTAMP:20260426T053153
CREATED:20200122T090147Z
LAST-MODIFIED:20200122T090147Z
UID:747-1580860800-1581119999@fukumoto.karuizawa.be
SUMMARY:日本創生EXPO - 幕張メッセ
DESCRIPTION:
URL:https://fukumoto.karuizawa.be/event/%e6%97%a5%e6%9c%ac%e5%89%b5%e7%94%9fexpo-%e5%b9%95%e5%bc%b5%e3%83%a1%e3%83%83%e3%82%bb/
LOCATION:幕張メッセ\, 千葉市美浜区中瀬2-1
CATEGORIES:研修会・勉強会
END:VEVENT
BEGIN:VEVENT
DTSTART;TZID=Asia/Tokyo:20200203T123000
DTEND;TZID=Asia/Tokyo:20200203T160000
DTSTAMP:20260426T053153
CREATED:20191215T230127Z
LAST-MODIFIED:20191215T230127Z
UID:699-1580733000-1580745600@fukumoto.karuizawa.be
SUMMARY:1245追分バス停：北佐久郡議員研修会
DESCRIPTION:立科町老人福祉センター \n講演：ブランドって何？ \n 
URL:https://fukumoto.karuizawa.be/event/1245%e8%bf%bd%e5%88%86%e3%83%90%e3%82%b9%e5%81%9c%ef%bc%9a%e5%8c%97%e4%bd%90%e4%b9%85%e9%83%a1%e8%ad%b0%e5%93%a1%e7%a0%94%e4%bf%ae%e4%bc%9a/
CATEGORIES:研修会・勉強会
END:VEVENT
BEGIN:VEVENT
DTSTART;TZID=Asia/Tokyo:20200117T160000
DTEND;TZID=Asia/Tokyo:20200117T170000
DTSTAMP:20260426T053153
CREATED:20191128T101813Z
LAST-MODIFIED:20191128T101813Z
UID:658-1579276800-1579280400@fukumoto.karuizawa.be
SUMMARY:16時 在宅医療に関する懇談会
DESCRIPTION:
URL:https://fukumoto.karuizawa.be/event/20200117/
LOCATION:軽井沢町役場\, 長野県北佐久郡軽井沢町大字長倉２３８１−１
CATEGORIES:研修会・勉強会
END:VEVENT
BEGIN:VEVENT
DTSTART;TZID=Asia/Tokyo:20200107T100000
DTEND;TZID=Asia/Tokyo:20200107T123000
DTSTAMP:20260426T053153
CREATED:20191215T231145Z
LAST-MODIFIED:20191215T231145Z
UID:702-1578391200-1578400200@fukumoto.karuizawa.be
SUMMARY:ICT技術の街づくりへの活用
DESCRIPTION:講師：井原雄人 \nICT技術の現状とビジネスエコシステム \nAI、IoT、RAPの活用による自治体運営の効率化 \nMaaSの導入による新しい交通サービス
URL:https://fukumoto.karuizawa.be/event/ict%e6%8a%80%e8%a1%93%e3%81%ae%e8%a1%97%e3%81%a5%e3%81%8f%e3%82%8a%e3%81%b8%e3%81%ae%e6%b4%bb%e7%94%a8/
LOCATION:早稲田大学 26号館 大隈記念タワー\, 東京都新宿区早稲田鶴巻町５１６
CATEGORIES:研修会・勉強会
END:VEVENT
BEGIN:VEVENT
DTSTART;TZID=Asia/Tokyo:20191118T150000
DTEND;TZID=Asia/Tokyo:20191118T200000
DTSTAMP:20260426T053153
CREATED:20191021T235711Z
LAST-MODIFIED:20191021T235711Z
UID:540-1574089200-1574107200@fukumoto.karuizawa.be
SUMMARY:浅麓地域議会議員懇談会
DESCRIPTION:演題：議会の制度と運営
URL:https://fukumoto.karuizawa.be/event/%e6%b5%85%e9%ba%93%e5%9c%b0%e5%9f%9f%e8%ad%b0%e4%bc%9a%e8%ad%b0%e5%93%a1%e6%87%87%e8%ab%87%e4%bc%9a/
LOCATION:グランドエクシブ軽井沢\, 長野県北佐久郡軽井沢町大字追分 字東かじか沢23-1
CATEGORIES:研修会・勉強会
END:VEVENT
BEGIN:VEVENT
DTSTART;VALUE=DATE:20191030
DTEND;VALUE=DATE:20191101
DTSTAMP:20260426T053153
CREATED:20190928T210309Z
LAST-MODIFIED:20191025T195621Z
UID:435-1572393600-1572566399@fukumoto.karuizawa.be
SUMMARY:佐久市・軽井沢町清掃施設組合議会視察研修
DESCRIPTION:台風の影響で延期 \n軽井沢町役場　6:30 出発 \n３０日：ツネイシカムテックス　→　オリックス資源循環　→　富山市役所　→　富山市宿泊 \n３１日：富山循環整備　→　佐久クリーンセンター　→　軽井沢町役場　18:30 \n 
URL:https://fukumoto.karuizawa.be/event/clean_center_studying_trip2019/
CATEGORIES:研修会・勉強会
END:VEVENT
BEGIN:VEVENT
DTSTART;TZID=Asia/Tokyo:20191023T180000
DTEND;TZID=Asia/Tokyo:20191023T190000
DTSTAMP:20260426T053153
CREATED:20191022T023428Z
LAST-MODIFIED:20191022T023428Z
UID:560-1571853600-1571857200@fukumoto.karuizawa.be
SUMMARY:旧軽井沢倶楽部
DESCRIPTION:
URL:https://fukumoto.karuizawa.be/event/%e6%97%a7%e8%bb%bd%e4%ba%95%e6%b2%a2%e5%80%b6%e6%a5%bd%e9%83%a8/
CATEGORIES:研修会・勉強会
END:VEVENT
BEGIN:VEVENT
DTSTART;VALUE=DATE:20191009
DTEND;VALUE=DATE:20191011
DTSTAMP:20260426T053153
CREATED:20190928T204454Z
LAST-MODIFIED:20190928T210739Z
UID:421-1570579200-1570751999@fukumoto.karuizawa.be
SUMMARY:伯耆町・雲南市 視察研修
DESCRIPTION:社会常任視察研修 \n6:30　軽井沢駅新幹線改札口 \n鳥取県伯耆町役場 \n島根県雲南市
URL:https://fukumoto.karuizawa.be/event/social_standing_committees_trip2019/
CATEGORIES:研修会・勉強会
END:VEVENT
BEGIN:VEVENT
DTSTART;TZID=Asia/Tokyo:20191005T130000
DTEND;TZID=Asia/Tokyo:20191005T150000
DTSTAMP:20260426T053153
CREATED:20190928T211031Z
LAST-MODIFIED:20190928T211031Z
UID:438-1570280400-1570287600@fukumoto.karuizawa.be
SUMMARY:小諸図書館 勉強会
DESCRIPTION:ひだまり広場
URL:https://fukumoto.karuizawa.be/event/%e5%b0%8f%e8%ab%b8%e5%9b%b3%e6%9b%b8%e9%a4%a8-%e5%8b%89%e5%bc%b7%e4%bc%9a/
LOCATION:私立小諸図書館\, 長野県小諸市相生町３ 三丁目3−3
CATEGORIES:研修会・勉強会
END:VEVENT
BEGIN:VEVENT
DTSTART;VALUE=DATE:20191003
DTEND;VALUE=DATE:20191005
DTSTAMP:20260426T053153
CREATED:20190928T203630Z
LAST-MODIFIED:20191022T014006Z
UID:413-1570060800-1570233599@fukumoto.karuizawa.be
SUMMARY:議員活性化特別委員会視察研修
DESCRIPTION:7:15　集合 \n安曇野市議会 \n箕輪町会 \n安城市議会
URL:https://fukumoto.karuizawa.be/event/special_committees_trip201910/
CATEGORIES:研修会・勉強会
END:VEVENT
BEGIN:VEVENT
DTSTART;TZID=Asia/Tokyo:20191002T140000
DTEND;TZID=Asia/Tokyo:20191002T160000
DTSTAMP:20260426T053153
CREATED:20190928T203156Z
LAST-MODIFIED:20190928T203156Z
UID:411-1570024800-1570032000@fukumoto.karuizawa.be
SUMMARY:佐久総合病院視察研修
DESCRIPTION:社会常任委員会 \n地域包括ケアシステムについて
URL:https://fukumoto.karuizawa.be/event/%e4%bd%90%e4%b9%85%e7%b7%8f%e5%90%88%e7%97%85%e9%99%a2%e8%a6%96%e5%af%9f%e7%a0%94%e4%bf%ae/
CATEGORIES:研修会・勉強会
END:VEVENT
BEGIN:VEVENT
DTSTART;TZID=Asia/Tokyo:20190930T153000
DTEND;TZID=Asia/Tokyo:20190930T200000
DTSTAMP:20260426T053153
CREATED:20190922T032556Z
LAST-MODIFIED:20190922T032556Z
UID:377-1569857400-1569873600@fukumoto.karuizawa.be
SUMMARY:合同議員研修会
DESCRIPTION:佐久市、軽井沢町、御代田町、立科町議会合同。 \n14:43　追分バス停 \n演題：科学の期間限定性の無常観
URL:https://fukumoto.karuizawa.be/event/%e5%90%88%e5%90%8c%e8%ad%b0%e5%93%a1%e7%a0%94%e4%bf%ae%e4%bc%9a2019/
LOCATION:佐久平プラザ２１\, 長野県佐久市佐久平駅東２−６
CATEGORIES:研修会・勉強会
END:VEVENT
END:VCALENDAR