BEGIN:VCALENDAR
VERSION:2.0
PRODID:-//軽井沢町議会議員 福本修 - ECPv6.9.0//NONSGML v1.0//EN
CALSCALE:GREGORIAN
METHOD:PUBLISH
X-ORIGINAL-URL:https://fukumoto.karuizawa.be
X-WR-CALDESC:軽井沢町議会議員 福本修 のイベント
REFRESH-INTERVAL;VALUE=DURATION:PT1H
X-Robots-Tag:noindex
X-PUBLISHED-TTL:PT1H
BEGIN:VTIMEZONE
TZID:Asia/Tokyo
BEGIN:STANDARD
TZOFFSETFROM:+0900
TZOFFSETTO:+0900
TZNAME:JST
DTSTART:20210101T000000
END:STANDARD
END:VTIMEZONE
BEGIN:VEVENT
DTSTART;TZID=Asia/Tokyo:20220113T090000
DTEND;TZID=Asia/Tokyo:20220113T170000
DTSTAMP:20260426T081040
CREATED:20211222T095347Z
LAST-MODIFIED:20211222T095347Z
UID:2097-1642064400-1642093200@fukumoto.karuizawa.be
SUMMARY:9時-総務常任委員会
DESCRIPTION:
URL:https://fukumoto.karuizawa.be/event/general-affairs-standing-council202201/
CATEGORIES:議会・委員会
END:VEVENT
BEGIN:VEVENT
DTSTART;TZID=Asia/Tokyo:20220107T110000
DTEND;TZID=Asia/Tokyo:20220107T120000
DTSTAMP:20260426T081040
CREATED:20211222T101234Z
LAST-MODIFIED:20211222T101513Z
UID:2116-1641553200-1641556800@fukumoto.karuizawa.be
SUMMARY:全員協議会-本会議終了後
DESCRIPTION:
URL:https://fukumoto.karuizawa.be/event/%e5%85%a8%e5%93%a1%e5%8d%94%e8%ad%b0%e4%bc%9a-%e6%9c%ac%e4%bc%9a%e8%ad%b0%e7%b5%82%e4%ba%86%e5%be%8c/
CATEGORIES:議会・委員会
END:VEVENT
BEGIN:VEVENT
DTSTART;TZID=Asia/Tokyo:20220107T100000
DTEND;TZID=Asia/Tokyo:20220107T120000
DTSTAMP:20260426T081040
CREATED:20211222T094454Z
LAST-MODIFIED:20211222T094454Z
UID:2087-1641549600-1641556800@fukumoto.karuizawa.be
SUMMARY:10時-本会議
DESCRIPTION:
URL:https://fukumoto.karuizawa.be/event/town-council202201/
CATEGORIES:議会・委員会
END:VEVENT
BEGIN:VEVENT
DTSTART;TZID=Asia/Tokyo:20220106T090000
DTEND;TZID=Asia/Tokyo:20220106T130000
DTSTAMP:20260426T081040
CREATED:20211222T094335Z
LAST-MODIFIED:20211222T094335Z
UID:2085-1641459600-1641474000@fukumoto.karuizawa.be
SUMMARY:9時-広報広聴常任委員会
DESCRIPTION:
URL:https://fukumoto.karuizawa.be/event/public-relations-council-20220106/
CATEGORIES:議会・委員会
END:VEVENT
BEGIN:VEVENT
DTSTART;TZID=Asia/Tokyo:20211228T090000
DTEND;TZID=Asia/Tokyo:20211228T170000
DTSTAMP:20260426T081040
CREATED:20211222T021253Z
LAST-MODIFIED:20211222T021253Z
UID:2079-1640682000-1640710800@fukumoto.karuizawa.be
SUMMARY:9時-広報広聴常任委員会
DESCRIPTION:
URL:https://fukumoto.karuizawa.be/event/public-relations-council-20211228/
CATEGORIES:議会・委員会
END:VEVENT
BEGIN:VEVENT
DTSTART;TZID=Asia/Tokyo:20211224T090000
DTEND;TZID=Asia/Tokyo:20211224T120000
DTSTAMP:20260426T081040
CREATED:20211222T021013Z
LAST-MODIFIED:20211222T021129Z
UID:2077-1640336400-1640347200@fukumoto.karuizawa.be
SUMMARY:9時-広報広聴常任委員会
DESCRIPTION:
URL:https://fukumoto.karuizawa.be/event/public-relations-council-20211224/
LOCATION:軽井沢町議会\, 北佐久郡軽井沢町大字長倉２３８１−１\, 長野県\, 日本
CATEGORIES:議会・委員会
END:VEVENT
BEGIN:VEVENT
DTSTART;TZID=Asia/Tokyo:20211217T100000
DTEND;TZID=Asia/Tokyo:20211217T170000
DTSTAMP:20260426T081040
CREATED:20211130T154110Z
LAST-MODIFIED:20211130T154110Z
UID:1999-1639735200-1639760400@fukumoto.karuizawa.be
SUMMARY:10時-軽井沢町議会本会議
DESCRIPTION:委員長報告\n質疑・討論・表決・申出\n閉　　会
URL:https://fukumoto.karuizawa.be/event/10%e6%99%82-%e8%bb%bd%e4%ba%95%e6%b2%a2%e7%94%ba%e8%ad%b0%e4%bc%9a%e6%9c%ac%e4%bc%9a%e8%ad%b0/
CATEGORIES:議会・委員会
END:VEVENT
BEGIN:VEVENT
DTSTART;TZID=Asia/Tokyo:20211217T090000
DTEND;TZID=Asia/Tokyo:20211217T093000
DTSTAMP:20260426T081040
CREATED:20211130T154156Z
LAST-MODIFIED:20211130T154156Z
UID:2001-1639731600-1639733400@fukumoto.karuizawa.be
SUMMARY:9時-写真撮影
DESCRIPTION:
URL:https://fukumoto.karuizawa.be/event/9%e6%99%82-%e5%86%99%e7%9c%9f%e6%92%ae%e5%bd%b1/
CATEGORIES:議会・委員会
END:VEVENT
BEGIN:VEVENT
DTSTART;TZID=Asia/Tokyo:20211215T100000
DTEND;TZID=Asia/Tokyo:20211215T170000
DTSTAMP:20260426T081040
CREATED:20211130T154019Z
LAST-MODIFIED:20211130T154019Z
UID:1997-1639562400-1639587600@fukumoto.karuizawa.be
SUMMARY:10時-予算決算常任委員会
DESCRIPTION:
URL:https://fukumoto.karuizawa.be/event/10%e6%99%82-%e4%ba%88%e7%ae%97%e6%b1%ba%e7%ae%97%e5%b8%b8%e4%bb%bb%e5%a7%94%e5%93%a1%e4%bc%9a/
CATEGORIES:議会・委員会
END:VEVENT
BEGIN:VEVENT
DTSTART;TZID=Asia/Tokyo:20211214T100000
DTEND;TZID=Asia/Tokyo:20211214T170000
DTSTAMP:20260426T081040
CREATED:20211130T153954Z
LAST-MODIFIED:20211130T153954Z
UID:1995-1639476000-1639501200@fukumoto.karuizawa.be
SUMMARY:10時-総務常任委員会
DESCRIPTION:
URL:https://fukumoto.karuizawa.be/event/10%e6%99%82-%e7%b7%8f%e5%8b%99%e5%b8%b8%e4%bb%bb%e5%a7%94%e5%93%a1%e4%bc%9a/
CATEGORIES:議会・委員会
END:VEVENT
BEGIN:VEVENT
DTSTART;TZID=Asia/Tokyo:20211213T100000
DTEND;TZID=Asia/Tokyo:20211213T170000
DTSTAMP:20260426T081040
CREATED:20211130T153901Z
LAST-MODIFIED:20211130T153901Z
UID:1993-1639389600-1639414800@fukumoto.karuizawa.be
SUMMARY:10時-請願案件、紹介議員として社会常任委員会に出席
DESCRIPTION:軽井沢中学校PTAの請願案件に紹介議員として社会常任委員会に出席 \n参集10:30 \n開始予定10:45
URL:https://fukumoto.karuizawa.be/event/10%e6%99%82-%e8%ab%8b%e9%a1%98%e6%a1%88%e4%bb%b6%e3%80%81%e7%b4%b9%e4%bb%8b%e8%ad%b0%e5%93%a1%e3%81%a8%e3%81%97%e3%81%a6%e7%a4%be%e4%bc%9a%e5%b8%b8%e4%bb%bb%e5%a7%94%e5%93%a1%e4%bc%9a%e3%81%ab/
CATEGORIES:議会・委員会
END:VEVENT
BEGIN:VEVENT
DTSTART;TZID=Asia/Tokyo:20211210T120000
DTEND;TZID=Asia/Tokyo:20211210T170000
DTSTAMP:20260426T081040
CREATED:20211130T153622Z
LAST-MODIFIED:20211130T153622Z
UID:1991-1639137600-1639155600@fukumoto.karuizawa.be
SUMMARY:議員定数・報酬等調査特別委員会
DESCRIPTION:
URL:https://fukumoto.karuizawa.be/event/%e8%ad%b0%e5%93%a1%e5%ae%9a%e6%95%b0%e3%83%bb%e5%a0%b1%e9%85%ac%e7%ad%89%e8%aa%bf%e6%9f%bb%e7%89%b9%e5%88%a5%e5%a7%94%e5%93%a1%e4%bc%9a/
CATEGORIES:議会・委員会
END:VEVENT
BEGIN:VEVENT
DTSTART;TZID=Asia/Tokyo:20211210T100000
DTEND;TZID=Asia/Tokyo:20211210T120000
DTSTAMP:20260426T081040
CREATED:20211130T153559Z
LAST-MODIFIED:20211130T153559Z
UID:1989-1639130400-1639137600@fukumoto.karuizawa.be
SUMMARY:10時-庁舎改築周辺整備事業検討特別委員会
DESCRIPTION:
URL:https://fukumoto.karuizawa.be/event/10%e6%99%82-%e5%ba%81%e8%88%8e%e6%94%b9%e7%af%89%e5%91%a8%e8%be%ba%e6%95%b4%e5%82%99%e4%ba%8b%e6%a5%ad%e6%a4%9c%e8%a8%8e%e7%89%b9%e5%88%a5%e5%a7%94%e5%93%a1%e4%bc%9a-2/
CATEGORIES:議会・委員会
END:VEVENT
BEGIN:VEVENT
DTSTART;TZID=Asia/Tokyo:20211209T100000
DTEND;TZID=Asia/Tokyo:20211209T170000
DTSTAMP:20260426T081040
CREATED:20211130T153521Z
LAST-MODIFIED:20211130T153521Z
UID:1987-1639044000-1639069200@fukumoto.karuizawa.be
SUMMARY:10時-議会活性化特別委員会
DESCRIPTION:
URL:https://fukumoto.karuizawa.be/event/10%e6%99%82-%e8%ad%b0%e4%bc%9a%e6%b4%bb%e6%80%a7%e5%8c%96%e7%89%b9%e5%88%a5%e5%a7%94%e5%93%a1%e4%bc%9a-3/
CATEGORIES:議会・委員会
END:VEVENT
BEGIN:VEVENT
DTSTART;TZID=Asia/Tokyo:20211208T100000
DTEND;TZID=Asia/Tokyo:20211208T170000
DTSTAMP:20260426T081040
CREATED:20211130T153447Z
LAST-MODIFIED:20211206T085019Z
UID:1985-1638957600-1638982800@fukumoto.karuizawa.be
SUMMARY:10時-議案質疑・議案付託
DESCRIPTION:議案第57号\n佐久市・軽井沢町清掃施設組合規約の変更について \n議案第58号\n軽井沢町企業版ふるさと応援基金条例の制定について \n議案第59号\n軽井沢町町税条例の一部改正について \n議案第60号\n軽井沢町国民健康保険条例の一部改正について \n議案第61号\n軽井沢町特定教育・保育施設及び特定地域型保育事業の運営に関する基準を定める条例の一部改正について \n議案第62号 \n軽井沢町屋内多目的運動場条例の廃止について\n議案第63号\n町道の廃止について \n議案第64号\n令和３年度軽井沢町一般会計補正予算（第７号） \n議案第65号\n令和３年度軽井沢町国民健康保険事業勘定特別会計補正予算（第２号） \n議案第66号\n令和３年度軽井沢町駐車場特別会計補正予算（第３号） \n議案第67号\n令和３年度軽井沢町公共下水道事業特別会計補正予算（第２号） \n議案第68号\n令和３年度軽井沢町農業集落排水事業特別会計補正予算（第２号） \n議案第69号\n令和３年度軽井沢町介護保険特別会計補正予算（第２号） \n議案第70号\n令和３年度軽井沢町後期高齢者医療特別会計補正予算（第２号） \n議案第71号\n令和３年度軽井沢町国民健康保険軽井沢病院事業会計補正予算（第１号）
URL:https://fukumoto.karuizawa.be/event/10%e6%99%82-%e8%ad%b0%e6%a1%88%e8%b3%aa%e7%96%91%e3%83%bb%e8%ad%b0%e6%a1%88%e4%bb%98%e8%a8%97/
CATEGORIES:議会・委員会
END:VEVENT
BEGIN:VEVENT
DTSTART;TZID=Asia/Tokyo:20211207T100000
DTEND;TZID=Asia/Tokyo:20211207T170000
DTSTAMP:20260426T081040
CREATED:20211130T153258Z
LAST-MODIFIED:20211130T153353Z
UID:1982-1638871200-1638896400@fukumoto.karuizawa.be
SUMMARY:10時-一般質問
DESCRIPTION:福本修 \n〇観光振興施策について \n中澤睦夫 \n〇農地への太陽光発電施設と自然保護対策要綱について \n〇発地市庭の直売所の出荷者減少について \n〇町の公園や遊具施設の計画について \n〇児童館の「母親クラブ」の名称について \n〇ジェンダー平等の施策について \n佐藤　幹夫 \n〇インフルエンザ予防接種について \n〇新型コロナウイルス感染症のＰＣＲ検査について \n〇新型コロナウイルス感染症対策緊急資金融資について \n〇旧三笠ホテルの保存修理工事について \n赤井　信夫 \n〇第４次食育推進基本計画に対する方針について \n〇グリホサート系除草剤の使用状況と残留検査について \n〇農薬等の残留検査について \n〇小学校へのゲノム編集トマトの苗の配布について \n〇給食費にかかる費用等の現状について
URL:https://fukumoto.karuizawa.be/event/10%e6%99%82-%e4%b8%80%e8%88%ac%e8%b3%aa%e5%95%8f-2/
CATEGORIES:議会・委員会
END:VEVENT
BEGIN:VEVENT
DTSTART;TZID=Asia/Tokyo:20211206T100000
DTEND;TZID=Asia/Tokyo:20211206T170000
DTSTAMP:20260426T081040
CREATED:20211130T153115Z
LAST-MODIFIED:20211130T153413Z
UID:1980-1638784800-1638810000@fukumoto.karuizawa.be
SUMMARY:10時-一般質問
DESCRIPTION:横須賀　桃　子 \n〇ツールの１つとして身につける英語能力について \n木内　　　徹 \n〇地球環境の保全に向けた取り組みについて \n眞島　聡子 \n〇町内のオストメイト対応トイレの設置について \n〇しなの鉄道を活用した高齢者の外出支援について \n川島　さゆり \n〇町の飲酒運転根絶の取り組みについて \n〇通学路の危険な横断歩道について \n〇災害時における聴覚障がい者への情報伝達について \n寺田　和佳子 \n〇特別支援教育の今後について
URL:https://fukumoto.karuizawa.be/event/10%e6%99%82-%e4%b8%80%e8%88%ac%e8%b3%aa%e5%95%8f/
CATEGORIES:議会・委員会
END:VEVENT
BEGIN:VEVENT
DTSTART;TZID=Asia/Tokyo:20211202T100000
DTEND;TZID=Asia/Tokyo:20211202T120000
DTSTAMP:20260426T081040
CREATED:20211130T152839Z
LAST-MODIFIED:20211130T152839Z
UID:1978-1638439200-1638446400@fukumoto.karuizawa.be
SUMMARY:10時-軽井沢議会12月定例会スタート
DESCRIPTION:再　　開\n諸般の報告\n町長あいさつ\n会議録署名議員の指名\n会期期間の決定\n議案の上程・説明
URL:https://fukumoto.karuizawa.be/event/10%e6%99%82-%e8%bb%bd%e4%ba%95%e6%b2%a2%e8%ad%b0%e4%bc%9a12%e6%9c%88%e5%ae%9a%e4%be%8b%e4%bc%9a%e3%82%b9%e3%82%bf%e3%83%bc%e3%83%88/
CATEGORIES:議会・委員会
END:VEVENT
BEGIN:VEVENT
DTSTART;TZID=Asia/Tokyo:20211119T120000
DTEND;TZID=Asia/Tokyo:20211119T120000
DTSTAMP:20260426T081040
CREATED:20211010T120324Z
LAST-MODIFIED:20211010T120324Z
UID:1896-1637323200-1637323200@fukumoto.karuizawa.be
SUMMARY:通告書締切
DESCRIPTION:
URL:https://fukumoto.karuizawa.be/event/%e9%80%9a%e5%91%8a%e6%9b%b8%e7%b7%a0%e5%88%87-2/
CATEGORIES:議会・委員会
END:VEVENT
BEGIN:VEVENT
DTSTART;TZID=Asia/Tokyo:20211104T090000
DTEND;TZID=Asia/Tokyo:20211104T170000
DTSTAMP:20260426T081040
CREATED:20211010T120221Z
LAST-MODIFIED:20211010T120221Z
UID:1894-1636016400-1636045200@fukumoto.karuizawa.be
SUMMARY:9時　全員協議会
DESCRIPTION:
URL:https://fukumoto.karuizawa.be/event/9%e6%99%82%e3%80%80%e5%85%a8%e5%93%a1%e5%8d%94%e8%ad%b0%e4%bc%9a-2/
CATEGORIES:議会・委員会
END:VEVENT
BEGIN:VEVENT
DTSTART;TZID=Asia/Tokyo:20211025T080000
DTEND;TZID=Asia/Tokyo:20211025T170000
DTSTAMP:20260426T081040
CREATED:20211010T120107Z
LAST-MODIFIED:20211010T120107Z
UID:1892-1635148800-1635181200@fukumoto.karuizawa.be
SUMMARY:議会だより132号発行日‐議会で受けとる
DESCRIPTION:風越公園、追分郵便局に届ける
URL:https://fukumoto.karuizawa.be/event/%e8%ad%b0%e4%bc%9a%e3%81%a0%e3%82%88%e3%82%8a132%e5%8f%b7%e7%99%ba%e8%a1%8c%e6%97%a5%e2%80%90%e8%ad%b0%e4%bc%9a%e3%81%a7%e5%8f%97%e3%81%91%e3%81%a8%e3%82%8b/
CATEGORIES:議会・委員会
END:VEVENT
BEGIN:VEVENT
DTSTART;TZID=Asia/Tokyo:20211021T090000
DTEND;TZID=Asia/Tokyo:20211021T120000
DTSTAMP:20260426T081040
CREATED:20210912T234258Z
LAST-MODIFIED:20211010T115954Z
UID:1862-1634806800-1634817600@fukumoto.karuizawa.be
SUMMARY:9時　総務常任委員会
DESCRIPTION:防災ラジオ懇談会
URL:https://fukumoto.karuizawa.be/event/9%e6%99%82%e3%80%80%e7%b7%8f%e5%8b%99%e5%b8%b8%e4%bb%bb%e5%a7%94%e5%93%a1%e4%bc%9a/
CATEGORIES:議会・委員会
END:VEVENT
BEGIN:VEVENT
DTSTART;TZID=Asia/Tokyo:20211011T100000
DTEND;TZID=Asia/Tokyo:20211011T120000
DTSTAMP:20260426T081040
CREATED:20211010T115417Z
LAST-MODIFIED:20211010T115417Z
UID:1881-1633946400-1633953600@fukumoto.karuizawa.be
SUMMARY:10時ICTプロジェクトミーティングZOOM
DESCRIPTION:
URL:https://fukumoto.karuizawa.be/event/10%e6%99%82ict%e3%83%97%e3%83%ad%e3%82%b8%e3%82%a7%e3%82%af%e3%83%88%e3%83%9f%e3%83%bc%e3%83%86%e3%82%a3%e3%83%b3%e3%82%b0zoom/
CATEGORIES:議会・委員会
END:VEVENT
BEGIN:VEVENT
DTSTART;TZID=Asia/Tokyo:20211008T090000
DTEND;TZID=Asia/Tokyo:20211008T110000
DTSTAMP:20260426T081040
CREATED:20210912T234111Z
LAST-MODIFIED:20210912T234111Z
UID:1860-1633683600-1633690800@fukumoto.karuizawa.be
SUMMARY:9時　全員協議会
DESCRIPTION:
URL:https://fukumoto.karuizawa.be/event/9%e6%99%82%e3%80%80%e5%85%a8%e5%93%a1%e5%8d%94%e8%ad%b0%e4%bc%9a/
CATEGORIES:議会・委員会
END:VEVENT
BEGIN:VEVENT
DTSTART;TZID=Asia/Tokyo:20211005T090000
DTEND;TZID=Asia/Tokyo:20211005T170000
DTSTAMP:20260426T081040
CREATED:20210924T005920Z
LAST-MODIFIED:20210924T005920Z
UID:1874-1633424400-1633453200@fukumoto.karuizawa.be
SUMMARY:9時　広報広聴常任委員
DESCRIPTION:
URL:https://fukumoto.karuizawa.be/event/9%e6%99%82%e3%80%80%e5%ba%83%e5%a0%b1%e5%ba%83%e8%81%b4%e5%b8%b8%e4%bb%bb%e5%a7%94%e5%93%a1-3/
CATEGORIES:議会・委員会
END:VEVENT
BEGIN:VEVENT
DTSTART;TZID=Asia/Tokyo:20210929T090000
DTEND;TZID=Asia/Tokyo:20210929T170000
DTSTAMP:20260426T081040
CREATED:20210924T005745Z
LAST-MODIFIED:20210924T005745Z
UID:1872-1632906000-1632934800@fukumoto.karuizawa.be
SUMMARY:9時　広報広聴常任委員
DESCRIPTION:
URL:https://fukumoto.karuizawa.be/event/9%e6%99%82%e3%80%80%e5%ba%83%e5%a0%b1%e5%ba%83%e8%81%b4%e5%b8%b8%e4%bb%bb%e5%a7%94%e5%93%a1-2/
CATEGORIES:議会・委員会
END:VEVENT
BEGIN:VEVENT
DTSTART;TZID=Asia/Tokyo:20210927T090000
DTEND;TZID=Asia/Tokyo:20210927T170000
DTSTAMP:20260426T081040
CREATED:20210924T005527Z
LAST-MODIFIED:20210924T005527Z
UID:1870-1632733200-1632762000@fukumoto.karuizawa.be
SUMMARY:9時　広報広聴常任委員
DESCRIPTION:
URL:https://fukumoto.karuizawa.be/event/9%e6%99%82%e3%80%80%e5%ba%83%e5%a0%b1%e5%ba%83%e8%81%b4%e5%b8%b8%e4%bb%bb%e5%a7%94%e5%93%a1/
CATEGORIES:議会・委員会
END:VEVENT
BEGIN:VEVENT
DTSTART;TZID=Asia/Tokyo:20210916T100000
DTEND;TZID=Asia/Tokyo:20210916T170000
DTSTAMP:20260426T081040
CREATED:20210901T000518Z
LAST-MODIFIED:20210901T000518Z
UID:1827-1631786400-1631811600@fukumoto.karuizawa.be
SUMMARY:10時-質疑・討論・表決
DESCRIPTION:委員長報告\n質疑・討論・表決\n散会
URL:https://fukumoto.karuizawa.be/event/10%e6%99%82-%e8%b3%aa%e7%96%91%e3%83%bb%e8%a8%8e%e8%ab%96%e3%83%bb%e8%a1%a8%e6%b1%ba/
CATEGORIES:議会・委員会
END:VEVENT
BEGIN:VEVENT
DTSTART;TZID=Asia/Tokyo:20210914T090000
DTEND;TZID=Asia/Tokyo:20210914T170000
DTSTAMP:20260426T081040
CREATED:20210901T000416Z
LAST-MODIFIED:20210901T000416Z
UID:1824-1631610000-1631638800@fukumoto.karuizawa.be
SUMMARY:9時-予算決算常任委員会（決算審査）
DESCRIPTION:
URL:https://fukumoto.karuizawa.be/event/9%e6%99%82-%e4%ba%88%e7%ae%97%e6%b1%ba%e7%ae%97%e5%b8%b8%e4%bb%bb%e5%a7%94%e5%93%a1%e4%bc%9a%ef%bc%88%e6%b1%ba%e7%ae%97%e5%af%a9%e6%9f%bb%ef%bc%89-3/
CATEGORIES:議会・委員会
END:VEVENT
BEGIN:VEVENT
DTSTART;TZID=Asia/Tokyo:20210913T090000
DTEND;TZID=Asia/Tokyo:20210913T170000
DTSTAMP:20260426T081040
CREATED:20210901T000355Z
LAST-MODIFIED:20210901T000355Z
UID:1822-1631523600-1631552400@fukumoto.karuizawa.be
SUMMARY:9時-予算決算常任委員会（決算審査）
DESCRIPTION:
URL:https://fukumoto.karuizawa.be/event/9%e6%99%82-%e4%ba%88%e7%ae%97%e6%b1%ba%e7%ae%97%e5%b8%b8%e4%bb%bb%e5%a7%94%e5%93%a1%e4%bc%9a%ef%bc%88%e6%b1%ba%e7%ae%97%e5%af%a9%e6%9f%bb%ef%bc%89-2/
CATEGORIES:議会・委員会
END:VEVENT
END:VCALENDAR