BEGIN:VCALENDAR
VERSION:2.0
PRODID:-//軽井沢町議会議員 福本修 - ECPv6.9.0//NONSGML v1.0//EN
CALSCALE:GREGORIAN
METHOD:PUBLISH
X-ORIGINAL-URL:https://fukumoto.karuizawa.be
X-WR-CALDESC:軽井沢町議会議員 福本修 のイベント
REFRESH-INTERVAL;VALUE=DURATION:PT1H
X-Robots-Tag:noindex
X-PUBLISHED-TTL:PT1H
BEGIN:VTIMEZONE
TZID:Asia/Tokyo
BEGIN:STANDARD
TZOFFSETFROM:+0900
TZOFFSETTO:+0900
TZNAME:JST
DTSTART:20190101T000000
END:STANDARD
END:VTIMEZONE
BEGIN:VEVENT
DTSTART;TZID=Asia/Tokyo:20220318T093000
DTEND;TZID=Asia/Tokyo:20220318T113000
DTSTAMP:20260426T050724
CREATED:20220307T225702Z
LAST-MODIFIED:20220307T225702Z
UID:2211-1647595800-1647603000@fukumoto.karuizawa.be
SUMMARY:9:30ぴっぴ卒園式
DESCRIPTION:
URL:https://fukumoto.karuizawa.be/event/pippi-graduatiion-sele2022/
CATEGORIES:式典・イベント
END:VEVENT
BEGIN:VEVENT
DTSTART;TZID=Asia/Tokyo:20220118T174500
DTEND;TZID=Asia/Tokyo:20220118T200000
DTSTAMP:20260426T050724
CREATED:20211222T100325Z
LAST-MODIFIED:20211222T100325Z
UID:2105-1642527900-1642536000@fukumoto.karuizawa.be
SUMMARY:17:45-浅麓地域議会議員懇親会
DESCRIPTION:
URL:https://fukumoto.karuizawa.be/event/1745-%e6%b5%85%e9%ba%93%e5%9c%b0%e5%9f%9f%e8%ad%b0%e4%bc%9a%e8%ad%b0%e5%93%a1%e6%87%87%e8%a6%aa%e4%bc%9a/
LOCATION:音羽\, 小諸市鶴巻2-2-27
CATEGORIES:式典・イベント
END:VEVENT
BEGIN:VEVENT
DTSTART;TZID=Asia/Tokyo:20220111T100000
DTEND;TZID=Asia/Tokyo:20220111T113000
DTSTAMP:20260426T050724
CREATED:20211222T095130Z
LAST-MODIFIED:20211222T095902Z
UID:2095-1641895200-1641900600@fukumoto.karuizawa.be
SUMMARY:10時-講演会-老後を安心して暮らすために
DESCRIPTION:
URL:https://fukumoto.karuizawa.be/event/semi-to-live-with-peace-of-mind-in-old-age/
LOCATION:追分公民館\, 長野県北佐久郡軽井沢町大字追分５２３
CATEGORIES:式典・イベント,追分
END:VEVENT
BEGIN:VEVENT
DTSTART;TZID=Asia/Tokyo:20220110T130000
DTEND;TZID=Asia/Tokyo:20220110T150000
DTSTAMP:20260426T050724
CREATED:20211222T095005Z
LAST-MODIFIED:20211222T095005Z
UID:2093-1641819600-1641826800@fukumoto.karuizawa.be
SUMMARY:13時-御影用水の370年-講演会
DESCRIPTION:  \n時
URL:https://fukumoto.karuizawa.be/event/13%e6%99%82-%e5%be%a1%e5%bd%b1%e7%94%a8%e6%b0%b4%e3%81%ae370%e5%b9%b4-%e8%ac%9b%e6%bc%94%e4%bc%9a/
CATEGORIES:式典・イベント,追分
END:VEVENT
BEGIN:VEVENT
DTSTART;TZID=Asia/Tokyo:20220109T110000
DTEND;TZID=Asia/Tokyo:20220109T123000
DTSTAMP:20260426T050724
CREATED:20211222T094835Z
LAST-MODIFIED:20211222T094835Z
UID:2091-1641726000-1641731400@fukumoto.karuizawa.be
SUMMARY:11時-成人式R3年対象
DESCRIPTION:
URL:https://fukumoto.karuizawa.be/event/11%e6%99%82-%e6%88%90%e4%ba%ba%e5%bc%8fr3%e5%b9%b4%e5%af%be%e8%b1%a1/
CATEGORIES:式典・イベント
END:VEVENT
BEGIN:VEVENT
DTSTART;TZID=Asia/Tokyo:20220108T110000
DTEND;TZID=Asia/Tokyo:20220108T123000
DTSTAMP:20260426T050724
CREATED:20211222T094731Z
LAST-MODIFIED:20211222T094731Z
UID:2089-1641639600-1641645000@fukumoto.karuizawa.be
SUMMARY:11時-成人式R4年対象
DESCRIPTION:
URL:https://fukumoto.karuizawa.be/event/coming-of-age-ceremony20220108/
LOCATION:軽井沢町中央公民館\, 長野県北佐久郡軽井沢町大字長倉２３５３−１
CATEGORIES:式典・イベント
END:VEVENT
BEGIN:VEVENT
DTSTART;TZID=Asia/Tokyo:20210624T163000
DTEND;TZID=Asia/Tokyo:20210624T170000
DTSTAMP:20260426T050724
CREATED:20210617T053347Z
LAST-MODIFIED:20210617T053347Z
UID:1706-1624552200-1624554000@fukumoto.karuizawa.be
SUMMARY:1630　町長表敬訪問付添
DESCRIPTION:
URL:https://fukumoto.karuizawa.be/event/1630%e3%80%80%e7%94%ba%e9%95%b7%e8%a1%a8%e6%95%ac%e8%a8%aa%e5%95%8f%e4%bb%98%e6%b7%bb/
CATEGORIES:式典・イベント
END:VEVENT
BEGIN:VEVENT
DTSTART;TZID=Asia/Tokyo:20210319T093000
DTEND;TZID=Asia/Tokyo:20210319T130000
DTSTAMP:20260426T050724
CREATED:20210309T230825Z
LAST-MODIFIED:20210309T230825Z
UID:1479-1616146200-1616158800@fukumoto.karuizawa.be
SUMMARY:9:30PIPPI卒園式
DESCRIPTION:
URL:https://fukumoto.karuizawa.be/event/930pippi%e5%8d%92%e5%9c%92%e5%bc%8f/
LOCATION:森のようちえん　ぴっぴ\, 長野県北佐久郡軽井沢町発地１０６１−３１
CATEGORIES:式典・イベント
END:VEVENT
BEGIN:VEVENT
DTSTART;TZID=Asia/Tokyo:20210315T100000
DTEND;TZID=Asia/Tokyo:20210315T170000
DTSTAMP:20260426T050724
CREATED:20201210T205451Z
LAST-MODIFIED:20210309T230813Z
UID:1329-1615802400-1615827600@fukumoto.karuizawa.be
SUMMARY:軽井沢フォレスト・レンジャードッグ・ウオーキング
DESCRIPTION:
URL:https://fukumoto.karuizawa.be/event/forestdog202103/
CATEGORIES:式典・イベント
END:VEVENT
BEGIN:VEVENT
DTSTART;TZID=Asia/Tokyo:20210221T100000
DTEND;TZID=Asia/Tokyo:20210221T170000
DTSTAMP:20260426T050724
CREATED:20201210T205406Z
LAST-MODIFIED:20201210T205406Z
UID:1327-1613901600-1613926800@fukumoto.karuizawa.be
SUMMARY:軽井沢フォレスト・レンジャードッグ・ウオーキング
DESCRIPTION:
URL:https://fukumoto.karuizawa.be/event/forestdog202102/
CATEGORIES:式典・イベント
END:VEVENT
BEGIN:VEVENT
DTSTART;TZID=Asia/Tokyo:20210118T100000
DTEND;TZID=Asia/Tokyo:20210118T120000
DTSTAMP:20260426T050724
CREATED:20201210T205321Z
LAST-MODIFIED:20201210T205321Z
UID:1325-1610964000-1610971200@fukumoto.karuizawa.be
SUMMARY:軽井沢フォレスト・レンジャードッグ・ウオーキング
DESCRIPTION:
URL:https://fukumoto.karuizawa.be/event/forestdog202101/
CATEGORIES:式典・イベント
END:VEVENT
BEGIN:VEVENT
DTSTART;TZID=Asia/Tokyo:20210108T174500
DTEND;TZID=Asia/Tokyo:20210108T200000
DTSTAMP:20260426T050724
CREATED:20201202T223435Z
LAST-MODIFIED:20210103T223019Z
UID:1314-1610127900-1610136000@fukumoto.karuizawa.be
SUMMARY:延期：17:45-新年議員懇談会
DESCRIPTION:プリンスホテル \n17：20役場西側駐車場
URL:https://fukumoto.karuizawa.be/event/1745-%e6%96%b0%e5%b9%b4%e8%ad%b0%e5%93%a1%e6%87%87%e8%ab%87%e4%bc%9a/
CATEGORIES:式典・イベント
END:VEVENT
BEGIN:VEVENT
DTSTART;TZID=Asia/Tokyo:20201105T173000
DTEND;TZID=Asia/Tokyo:20201105T180000
DTSTAMP:20260426T050724
CREATED:20201016T050148Z
LAST-MODIFIED:20201016T050148Z
UID:1246-1604597400-1604599200@fukumoto.karuizawa.be
SUMMARY:17:30大槌町演奏家演奏＠追分公民館
DESCRIPTION:
URL:https://fukumoto.karuizawa.be/event/1730%e5%a4%a7%e6%a7%8c%e7%94%ba%e6%bc%94%e5%a5%8f%e5%ae%b6%e6%bc%94%e5%a5%8f%ef%bc%a0%e8%bf%bd%e5%88%86%e5%85%ac%e6%b0%91%e9%a4%a8/
CATEGORIES:式典・イベント
END:VEVENT
BEGIN:VEVENT
DTSTART;TZID=Asia/Tokyo:20201018T080000
DTEND;TZID=Asia/Tokyo:20201018T140000
DTSTAMP:20260426T050724
CREATED:20201006T094914Z
LAST-MODIFIED:20201006T095717Z
UID:1215-1603008000-1603029600@fukumoto.karuizawa.be
SUMMARY:ドッグツーリズムHoliday Walking in 軽井沢
DESCRIPTION:軽井沢駅周辺 \n愛犬連れの参加も可能
URL:https://fukumoto.karuizawa.be/event/dog_tourlism_holiday-walking/
CATEGORIES:式典・イベント
END:VEVENT
BEGIN:VEVENT
DTSTART;TZID=Asia/Tokyo:20200815T114000
DTEND;TZID=Asia/Tokyo:20200815T123000
DTSTAMP:20260426T050724
CREATED:20200721T055539Z
LAST-MODIFIED:20200721T055539Z
UID:1124-1597491600-1597494600@fukumoto.karuizawa.be
SUMMARY:11:40-戦没者追悼式
DESCRIPTION:長倉公園　あ平和の礎　前
URL:https://fukumoto.karuizawa.be/event/1140-%e6%88%a6%e6%b2%a1%e8%80%85%e8%bf%bd%e6%82%bc%e5%bc%8f/
CATEGORIES:式典・イベント
END:VEVENT
BEGIN:VEVENT
DTSTART;TZID=Asia/Tokyo:20200427T083000
DTEND;TZID=Asia/Tokyo:20200427T103000
DTSTAMP:20260426T050724
CREATED:20200425T103955Z
LAST-MODIFIED:20200425T103955Z
UID:992-1587976200-1587983400@fukumoto.karuizawa.be
SUMMARY:8:30 浅間神社祭礼
DESCRIPTION:
URL:https://fukumoto.karuizawa.be/event/830-%e6%b5%85%e9%96%93%e7%a5%9e%e7%a4%be%e7%a5%ad%e7%a4%bc/
CATEGORIES:式典・イベント
END:VEVENT
BEGIN:VEVENT
DTSTART;TZID=Asia/Tokyo:20200406T100000
DTEND;TZID=Asia/Tokyo:20200406T110000
DTSTAMP:20260426T050724
CREATED:20200224T192100Z
LAST-MODIFIED:20200224T192100Z
UID:801-1586167200-1586170800@fukumoto.karuizawa.be
SUMMARY:9:30西部小入学式
DESCRIPTION:9:20受付開始
URL:https://fukumoto.karuizawa.be/event/22020seibusho_entrance_ceremony/
CATEGORIES:式典・イベント
END:VEVENT
BEGIN:VEVENT
DTSTART;TZID=Asia/Tokyo:20200318T083000
DTEND;TZID=Asia/Tokyo:20200318T224500
DTSTAMP:20260426T050724
CREATED:20200224T191215Z
LAST-MODIFIED:20200224T191215Z
UID:794-1584520200-1584571500@fukumoto.karuizawa.be
SUMMARY:8:30-西部小卒業式
DESCRIPTION:8:25受付開始
URL:https://fukumoto.karuizawa.be/event/2020seibusho_graduation/
CATEGORIES:式典・イベント
END:VEVENT
BEGIN:VEVENT
DTSTART;TZID=Asia/Tokyo:20200317T080000
DTEND;TZID=Asia/Tokyo:20200317T111000
DTSTAMP:20260426T050724
CREATED:20200224T191508Z
LAST-MODIFIED:20200224T191538Z
UID:796-1584432000-1584443400@fukumoto.karuizawa.be
SUMMARY:7:45-軽中卒業式
DESCRIPTION:8時から多目的室。転退職職員j紹介開始
URL:https://fukumoto.karuizawa.be/event/2020juniorhigh_graduation/
CATEGORIES:式典・イベント
END:VEVENT
BEGIN:VEVENT
DTSTART;VALUE=DATE:20200308
DTEND;VALUE=DATE:20200309
DTSTAMP:20260426T050724
CREATED:20191207T012530Z
LAST-MODIFIED:20191207T012530Z
UID:684-1583625600-1583711999@fukumoto.karuizawa.be
SUMMARY:アミティエ発表会
DESCRIPTION:
URL:https://fukumoto.karuizawa.be/event/%e3%82%a2%e3%83%9f%e3%83%86%e3%82%a3%e3%82%a8%e7%99%ba%e8%a1%a8%e4%bc%9a/
CATEGORIES:式典・イベント
END:VEVENT
BEGIN:VEVENT
DTSTART;TZID=Asia/Tokyo:20200301T183000
DTEND;TZID=Asia/Tokyo:20200301T200000
DTSTAMP:20260426T050724
CREATED:20200219T215214Z
LAST-MODIFIED:20200219T215214Z
UID:786-1583087400-1583092800@fukumoto.karuizawa.be
SUMMARY:1830追分区隣組慰労会
DESCRIPTION:
URL:https://fukumoto.karuizawa.be/event/1830%e8%bf%bd%e5%88%86%e5%8c%ba%e9%9a%a3%e7%b5%84%e6%85%b0%e5%8a%b4%e4%bc%9a/
LOCATION:追分公民館\, 長野県北佐久郡軽井沢町大字追分５２３
CATEGORIES:式典・イベント
END:VEVENT
BEGIN:VEVENT
DTSTART;TZID=Asia/Tokyo:20200228T131500
DTEND;TZID=Asia/Tokyo:20200228T170000
DTSTAMP:20260426T050724
CREATED:20200219T220013Z
LAST-MODIFIED:20200225T224556Z
UID:790-1582895700-1582909200@fukumoto.karuizawa.be
SUMMARY:ヤブ刈調印式
DESCRIPTION:ゆうゆうの森協定　調印式は14時から借宿公民館にて。
URL:https://fukumoto.karuizawa.be/event/%e3%83%a4%e3%83%96%e5%88%88%e8%aa%bf%e5%8d%b0%e5%bc%8f/
CATEGORIES:式典・イベント
END:VEVENT
BEGIN:VEVENT
DTSTART;TZID=Asia/Tokyo:20200221T110000
DTEND;TZID=Asia/Tokyo:20200221T130000
DTSTAMP:20260426T050724
CREATED:20200131T012255Z
LAST-MODIFIED:20200131T012422Z
UID:759-1582282800-1582290000@fukumoto.karuizawa.be
SUMMARY:11時-聖徳太子祭
DESCRIPTION:
URL:https://fukumoto.karuizawa.be/event/11%e6%99%82-%e8%81%96%e5%be%b3%e5%a4%aa%e5%ad%90%e7%a5%ad/
LOCATION:湯川原荘\, 湯川原荘
CATEGORIES:式典・イベント
END:VEVENT
BEGIN:VEVENT
DTSTART;TZID=Asia/Tokyo:20200216T100000
DTEND;TZID=Asia/Tokyo:20200216T130000
DTSTAMP:20260426T050724
CREATED:20200211T221309Z
LAST-MODIFIED:20200211T221309Z
UID:783-1581847200-1581858000@fukumoto.karuizawa.be
SUMMARY:ForestRangerDog啓発ウォーキング
DESCRIPTION:町営追分宿駐車場集合
URL:https://fukumoto.karuizawa.be/event/forestrangerdog%e5%95%93%e7%99%ba%e3%82%a6%e3%82%a9%e3%83%bc%e3%82%ad%e3%83%b3%e3%82%b0/
CATEGORIES:式典・イベント
END:VEVENT
BEGIN:VEVENT
DTSTART;TZID=Asia/Tokyo:20200118T100000
DTEND;TZID=Asia/Tokyo:20200118T170000
DTSTAMP:20260426T050724
CREATED:20191204T003223Z
LAST-MODIFIED:20191204T003223Z
UID:663-1579341600-1579366800@fukumoto.karuizawa.be
SUMMARY:9:40消防出初式
DESCRIPTION:十時開始
URL:https://fukumoto.karuizawa.be/event/940%e6%b6%88%e9%98%b2%e5%87%ba%e5%88%9d%e5%bc%8f/
LOCATION:軽井沢町中央公民館\, 長野県北佐久郡軽井沢町大字長倉２３５３−１
CATEGORIES:式典・イベント
END:VEVENT
BEGIN:VEVENT
DTSTART;TZID=Asia/Tokyo:20200110T174500
DTEND;TZID=Asia/Tokyo:20200110T200000
DTSTAMP:20260426T050724
CREATED:20191128T091933Z
LAST-MODIFIED:20191128T092008Z
UID:651-1578678300-1578686400@fukumoto.karuizawa.be
SUMMARY:1745　新年議員懇談会
DESCRIPTION:
URL:https://fukumoto.karuizawa.be/event/2020newyearmtg/
LOCATION:軽井沢プリンスホテル\, 長野県北佐久郡軽井沢町大字軽井沢１０１６−８８
CATEGORIES:式典・イベント
END:VEVENT
BEGIN:VEVENT
DTSTART;TZID=Asia/Tokyo:20200110T130000
DTEND;TZID=Asia/Tokyo:20200110T170000
DTSTAMP:20260426T050724
CREATED:20191128T091714Z
LAST-MODIFIED:20191128T091714Z
UID:649-1578661200-1578675600@fukumoto.karuizawa.be
SUMMARY:議場コンサート
DESCRIPTION:アミティエ プティ出演 \n本会議終了後
URL:https://fukumoto.karuizawa.be/event/%e8%ad%b0%e5%a0%b4%e3%82%b3%e3%83%b3%e3%82%b5%e3%83%bc%e3%83%88/
CATEGORIES:式典・イベント
END:VEVENT
BEGIN:VEVENT
DTSTART;TZID=Asia/Tokyo:20200109T130000
DTEND;TZID=Asia/Tokyo:20200109T170000
DTSTAMP:20260426T050724
CREATED:20191215T221249Z
LAST-MODIFIED:20191215T221249Z
UID:696-1578574800-1578589200@fukumoto.karuizawa.be
SUMMARY:2時-賀詞交歓会プリンスhtl
DESCRIPTION:観光協会、商工会主催 \nプリンスホテルウェスト　浅間 \n受付13:30
URL:https://fukumoto.karuizawa.be/event/2%e6%99%82-%e8%b3%80%e8%a9%9e%e4%ba%a4%e6%ad%93%e4%bc%9a%e3%83%97%e3%83%aa%e3%83%b3%e3%82%b9htl/
CATEGORIES:式典・イベント
END:VEVENT
BEGIN:VEVENT
DTSTART;TZID=Asia/Tokyo:20191225T080000
DTEND;TZID=Asia/Tokyo:20191225T170000
DTSTAMP:20260426T050724
CREATED:20191224T223239Z
LAST-MODIFIED:20191224T223239Z
UID:715-1577260800-1577293200@fukumoto.karuizawa.be
SUMMARY:11時-成人式
DESCRIPTION:
URL:https://fukumoto.karuizawa.be/event/2020coming-of-age_ceremony/
LOCATION:軽井沢大賀ホール\, 長野県北佐久郡軽井沢町軽井沢東２８−４
CATEGORIES:式典・イベント
END:VEVENT
BEGIN:VEVENT
DTSTART;TZID=Asia/Tokyo:20191215T120000
DTEND;TZID=Asia/Tokyo:20191215T190000
DTSTAMP:20260426T050724
CREATED:20191207T010052Z
LAST-MODIFIED:20191207T011027Z
UID:675-1576411200-1576436400@fukumoto.karuizawa.be
SUMMARY:クリスマスフェスティバル（ミュージック＆マルシェ）
DESCRIPTION:​＜会場＞ 軽井12-16沢大賀ホール・矢ヶ崎公園 \n12-16時　マルシェ　at 矢ヶ崎公園グラウンド \n13-19時　ミュージックイベント　at 軽井沢大賀ホール
URL:https://fukumoto.karuizawa.be/event/xmas_fes2019/
CATEGORIES:式典・イベント
END:VEVENT
END:VCALENDAR