BEGIN:VCALENDAR
VERSION:2.0
PRODID:-//軽井沢町議会議員 福本修 - ECPv6.9.0//NONSGML v1.0//EN
CALSCALE:GREGORIAN
METHOD:PUBLISH
X-WR-CALNAME:軽井沢町議会議員 福本修
X-ORIGINAL-URL:https://fukumoto.karuizawa.be
X-WR-CALDESC:軽井沢町議会議員 福本修 のイベント
REFRESH-INTERVAL;VALUE=DURATION:PT1H
X-Robots-Tag:noindex
X-PUBLISHED-TTL:PT1H
BEGIN:VTIMEZONE
TZID:Asia/Tokyo
BEGIN:STANDARD
TZOFFSETFROM:+0900
TZOFFSETTO:+0900
TZNAME:JST
DTSTART:20190101T000000
END:STANDARD
END:VTIMEZONE
BEGIN:VEVENT
DTSTART;TZID=Asia/Tokyo:20191208T133000
DTEND;TZID=Asia/Tokyo:20191208T170000
DTSTAMP:20260426T104102
CREATED:20191128T091510Z
LAST-MODIFIED:20191128T091510Z
UID:647-1575811800-1575824400@fukumoto.karuizawa.be
SUMMARY:1330 社会福祉大会
DESCRIPTION:受付13時から \n中央公民館
URL:https://fukumoto.karuizawa.be/event/1330-%e7%a4%be%e4%bc%9a%e7%a6%8f%e7%a5%89%e5%a4%a7%e4%bc%9a/
LOCATION:軽井沢町中央公民館\, 長野県北佐久郡軽井沢町大字長倉２３５３−１
CATEGORIES:式典・イベント
END:VEVENT
BEGIN:VEVENT
DTSTART;TZID=Asia/Tokyo:20191129T173000
DTEND;TZID=Asia/Tokyo:20191129T193000
DTSTAMP:20260426T104102
CREATED:20191110T204602Z
LAST-MODIFIED:20191111T084907Z
UID:617-1575048600-1575055800@fukumoto.karuizawa.be
SUMMARY:軽井沢観光協会七十周年記念
DESCRIPTION:会場：ハッピーヴァレイ \n13:30-15:30：講演 \n16:00～　式典 \n17:30～　祝賀会
URL:https://fukumoto.karuizawa.be/event/%e8%bb%bd%e4%ba%95%e6%b2%a2%e8%a6%b3%e5%85%89%e5%8d%94%e4%bc%9a%e4%b8%83%e5%8d%81%e5%91%a8%e5%b9%b4%e8%a8%98%e5%bf%b5/
LOCATION:万平ホテル\, 長野県北佐久郡軽井沢町９２５
CATEGORIES:式典・イベント
END:VEVENT
BEGIN:VEVENT
DTSTART;TZID=Asia/Tokyo:20191118T130000
DTEND;TZID=Asia/Tokyo:20191118T140000
DTSTAMP:20260426T104102
CREATED:20191029T005924Z
LAST-MODIFIED:20191029T005924Z
UID:598-1574082000-1574085600@fukumoto.karuizawa.be
SUMMARY:13:15戦没者慰霊式
DESCRIPTION:中央公民館
URL:https://fukumoto.karuizawa.be/event/1315%e6%88%a6%e6%b2%a1%e8%80%85%e6%85%b0%e9%9c%8a%e5%bc%8f/
CATEGORIES:式典・イベント
END:VEVENT
BEGIN:VEVENT
DTSTART;TZID=Asia/Tokyo:20191110T130000
DTEND;TZID=Asia/Tokyo:20191110T150000
DTSTAMP:20260426T104102
CREATED:20191101T001706Z
LAST-MODIFIED:20191101T001706Z
UID:600-1573390800-1573398000@fukumoto.karuizawa.be
SUMMARY:第２８回軽井沢吹奏楽祭
DESCRIPTION:町内三小学校、中学校、高校+軽井沢吹奏楽団の演奏。 \n合同 \n演奏やゲスト
URL:https://fukumoto.karuizawa.be/event/%e7%ac%ac%ef%bc%92%ef%bc%98%e5%9b%9e%e8%bb%bd%e4%ba%95%e6%b2%a2%e5%90%b9%e5%a5%8f%e6%a5%bd%e7%a5%ad/
LOCATION:軽井沢大賀ホール\, 長野県北佐久郡軽井沢町軽井沢東２８−４
CATEGORIES:式典・イベント
END:VEVENT
BEGIN:VEVENT
DTSTART;TZID=Asia/Tokyo:20191104T100000
DTEND;TZID=Asia/Tokyo:20191104T130000
DTSTAMP:20260426T104102
CREATED:20191022T002724Z
LAST-MODIFIED:20191022T002800Z
UID:543-1572861600-1572872400@fukumoto.karuizawa.be
SUMMARY:松ぼっくりの森イベント
DESCRIPTION:林業体験 \nネイチャーゲーム \n動物や植物のガイド付き \n１０月末日までにお申し込みください。 \n連絡先は090-4948-8992（押金）
URL:https://fukumoto.karuizawa.be/event/%e6%9d%be%e3%81%bc%e3%81%a3%e3%81%8f%e3%82%8a%e3%81%ae%e6%a3%ae%e3%82%a4%e3%83%99%e3%83%b3%e3%83%88/
CATEGORIES:式典・イベント
ATTACH;FMTTYPE=image/jpeg:https://fukumoto.karuizawa.be/wp-content/uploads/2019/10/20191104shinrin.jpg
END:VEVENT
BEGIN:VEVENT
DTSTART;TZID=Asia/Tokyo:20191103T140000
DTEND;TZID=Asia/Tokyo:20191103T160000
DTSTAMP:20260426T104102
CREATED:20190924T013736Z
LAST-MODIFIED:20190924T013736Z
UID:403-1572789600-1572796800@fukumoto.karuizawa.be
SUMMARY:軽井沢文化遺産フェスティバル2019
DESCRIPTION:追分節の起源を訪ねて\n開場13：30\n開演14：00\n終演予定16：00 \n入場無料 \n軽井沢町と追分節の歴史や魅力を専門家・文化人が分かりやすく解説。あわせて地域文化の保存・継承について提言いただくシンポジウムを実施。 \n【シンポジウム】\n1、軽井沢の歴史・追分節の歴史\n2、軽井沢の文化財の価値についての考察\n3、現状の課題\n4、文化都市としてのあり方の展望 \n【追分節】\n江差追分会（北海道江差町）\n追分節保存会（長野県軽井沢町）
URL:https://fukumoto.karuizawa.be/event/%e8%bb%bd%e4%ba%95%e6%b2%a2%e6%96%87%e5%8c%96%e9%81%ba%e7%94%a3%e3%83%95%e3%82%a7%e3%82%b9%e3%83%86%e3%82%a3%e3%83%90%e3%83%ab2019/
LOCATION:軽井沢大賀ホール\, 長野県北佐久郡軽井沢町軽井沢東２８−４
CATEGORIES:式典・イベント
END:VEVENT
BEGIN:VEVENT
DTSTART;TZID=Asia/Tokyo:20191030T093000
DTEND;TZID=Asia/Tokyo:20191030T120000
DTSTAMP:20260426T104102
CREATED:20191026T063630Z
LAST-MODIFIED:20191026T063630Z
UID:595-1572427800-1572436800@fukumoto.karuizawa.be
SUMMARY:9:30森イベント下見
DESCRIPTION:
URL:https://fukumoto.karuizawa.be/event/930%e6%a3%ae%e3%82%a4%e3%83%99%e3%83%b3%e3%83%88%e4%b8%8b%e8%a6%8b/
CATEGORIES:式典・イベント
END:VEVENT
BEGIN:VEVENT
DTSTART;TZID=Asia/Tokyo:20191026T133000
DTEND;TZID=Asia/Tokyo:20191026T150000
DTSTAMP:20260426T104102
CREATED:20191022T083754Z
LAST-MODIFIED:20191022T083754Z
UID:572-1572096600-1572102000@fukumoto.karuizawa.be
SUMMARY:追分公民館 – 講演会
DESCRIPTION:堀辰雄文学記念館「秋の講演会」 \n場所は追分公民館
URL:https://fukumoto.karuizawa.be/event/%e8%bf%bd%e5%88%86%e5%85%ac%e6%b0%91%e9%a4%a8-%e8%ac%9b%e6%bc%94%e4%bc%9a/
LOCATION:追分公民館\, 長野県北佐久郡軽井沢町大字追分５２３
CATEGORIES:式典・イベント
END:VEVENT
BEGIN:VEVENT
DTSTART;TZID=Asia/Tokyo:20191026T100000
DTEND;TZID=Asia/Tokyo:20191026T120000
DTSTAMP:20260426T104102
CREATED:20191022T083416Z
LAST-MODIFIED:20191022T083416Z
UID:570-1572084000-1572091200@fukumoto.karuizawa.be
SUMMARY:追分宿郷土館 - リゾートコンサート
DESCRIPTION:出演 \n\n追分節保存会\n追分節鯛\n軽井沢御神楽保存会\n大浅間火焔太鼓保存会
URL:https://fukumoto.karuizawa.be/event/%e8%bf%bd%e5%88%86%e5%ae%bf%e9%83%b7%e5%9c%9f%e9%a4%a8-%e3%83%aa%e3%82%be%e3%83%bc%e3%83%88%e3%82%b3%e3%83%b3%e3%82%b5%e3%83%bc%e3%83%88/
CATEGORIES:式典・イベント
END:VEVENT
BEGIN:VEVENT
DTSTART;TZID=Asia/Tokyo:20191022T133000
DTEND;TZID=Asia/Tokyo:20191022T150000
DTSTAMP:20260426T104102
CREATED:20191021T005928Z
LAST-MODIFIED:20191021T005928Z
UID:538-1571751000-1571756400@fukumoto.karuizawa.be
SUMMARY:まつぼっくりの会、イベント下作業
DESCRIPTION:西側　林内入り口地点集合
URL:https://fukumoto.karuizawa.be/event/%e3%81%be%e3%81%a4%e3%81%bc%e3%81%a3%e3%81%8f%e3%82%8a%e3%81%ae%e4%bc%9a%e3%80%81%e3%82%a4%e3%83%99%e3%83%b3%e3%83%88%e4%b8%8b%e4%bd%9c%e6%a5%ad/
CATEGORIES:式典・イベント
END:VEVENT
BEGIN:VEVENT
DTSTART;TZID=Asia/Tokyo:20191016T130000
DTEND;TZID=Asia/Tokyo:20191016T143000
DTSTAMP:20260426T104102
CREATED:20191010T111706Z
LAST-MODIFIED:20191010T111706Z
UID:502-1571230800-1571236200@fukumoto.karuizawa.be
SUMMARY:薮刈 森林教室下見
DESCRIPTION:開会式の場所にて
URL:https://fukumoto.karuizawa.be/event/%e8%96%ae%e5%88%88-%e6%a3%ae%e6%9e%97%e6%95%99%e5%ae%a4%e4%b8%8b%e8%a6%8b/
CATEGORIES:式典・イベント
END:VEVENT
BEGIN:VEVENT
DTSTART;TZID=Asia/Tokyo:20191012T000000
DTEND;TZID=Asia/Tokyo:20191012T010000
DTSTAMP:20260426T104102
CREATED:20191010T034427Z
LAST-MODIFIED:20191010T034427Z
UID:497-1570838400-1570842000@fukumoto.karuizawa.be
SUMMARY:中央公民館
DESCRIPTION:薮刈実行委員会事務作業
URL:https://fukumoto.karuizawa.be/event/%e4%b8%ad%e5%a4%ae%e5%85%ac%e6%b0%91%e9%a4%a8/
CATEGORIES:式典・イベント
END:VEVENT
BEGIN:VEVENT
DTSTART;TZID=Asia/Tokyo:20191011T130000
DTEND;TZID=Asia/Tokyo:20191011T170000
DTSTAMP:20260426T104102
CREATED:20190928T204931Z
LAST-MODIFIED:20191002T064026Z
UID:423-1570798800-1570813200@fukumoto.karuizawa.be
SUMMARY:北佐久郡議会議員親睦ゴルフ・マレットゴルフ大会
DESCRIPTION:12:00 pickup
URL:https://fukumoto.karuizawa.be/event/%e5%8c%97%e4%bd%90%e4%b9%85%e9%83%a1%e8%ad%b0%e4%bc%9a%e8%ad%b0%e5%93%a1%e8%a6%aa%e7%9d%a6%e3%82%b4%e3%83%ab%e3%83%95%e3%83%bb%e3%83%9e%e3%83%ac%e3%83%83%e3%83%88%e3%82%b4%e3%83%ab%e3%83%95%e5%a4%a7/
LOCATION:権現山運動公園マレットゴルフ場\, 長野県北佐久郡立科町大字芦田３７７２
CATEGORIES:式典・イベント
END:VEVENT
BEGIN:VEVENT
DTSTART;TZID=Asia/Tokyo:20190929T100000
DTEND;TZID=Asia/Tokyo:20190929T143000
DTSTAMP:20260426T104102
CREATED:20190924T021844Z
LAST-MODIFIED:20190924T021844Z
UID:407-1569751200-1569767400@fukumoto.karuizawa.be
SUMMARY:ふれあい祭り-15th10
DESCRIPTION:中央公民館
URL:https://fukumoto.karuizawa.be/event/%e3%81%b5%e3%82%8c%e3%81%82%e3%81%84%e7%a5%ad%e3%82%8a-15th10/
CATEGORIES:式典・イベント
END:VEVENT
END:VCALENDAR