BEGIN:VCALENDAR
VERSION:2.0
PRODID:-//軽井沢町議会議員 福本修 - ECPv6.9.0//NONSGML v1.0//EN
CALSCALE:GREGORIAN
METHOD:PUBLISH
X-ORIGINAL-URL:https://fukumoto.karuizawa.be
X-WR-CALDESC:軽井沢町議会議員 福本修 のイベント
REFRESH-INTERVAL;VALUE=DURATION:PT1H
X-Robots-Tag:noindex
X-PUBLISHED-TTL:PT1H
BEGIN:VTIMEZONE
TZID:Asia/Tokyo
BEGIN:STANDARD
TZOFFSETFROM:+0900
TZOFFSETTO:+0900
TZNAME:JST
DTSTART:20190101T000000
END:STANDARD
END:VTIMEZONE
BEGIN:VEVENT
DTSTART;TZID=Asia/Tokyo:20210704T080000
DTEND;TZID=Asia/Tokyo:20210704T170000
DTSTAMP:20260426T084952
CREATED:20210610T233322Z
LAST-MODIFIED:20210610T233615Z
UID:1679-1625385600-1625418000@fukumoto.karuizawa.be
SUMMARY:8時-追分区一斉清掃.その後、分去れ草刈り
DESCRIPTION:分去れ草刈りは9：30目安
URL:https://fukumoto.karuizawa.be/event/8%e6%99%82-%e8%bf%bd%e5%88%86%e5%8c%ba%e4%b8%80%e6%96%89%e6%b8%85%e6%8e%83/
CATEGORIES:追分
END:VEVENT
BEGIN:VEVENT
DTSTART;TZID=Asia/Tokyo:20210629T190000
DTEND;TZID=Asia/Tokyo:20210629T200000
DTSTAMP:20260426T084952
CREATED:20210620T095935Z
LAST-MODIFIED:20210620T095935Z
UID:1711-1624993200-1624996800@fukumoto.karuizawa.be
SUMMARY:地域会議　運営会議
DESCRIPTION:
URL:https://fukumoto.karuizawa.be/event/%e5%9c%b0%e5%9f%9f%e4%bc%9a%e8%ad%b0%e3%80%80%e9%81%8b%e5%96%b6%e4%bc%9a%e8%ad%b0/
CATEGORIES:追分
END:VEVENT
BEGIN:VEVENT
DTSTART;TZID=Asia/Tokyo:20210620T080000
DTEND;TZID=Asia/Tokyo:20210620T170000
DTSTAMP:20260426T084952
CREATED:20210606T230019Z
LAST-MODIFIED:20210606T230019Z
UID:1662-1624176000-1624208400@fukumoto.karuizawa.be
SUMMARY:８時ー公民館草刈り
DESCRIPTION:
URL:https://fukumoto.karuizawa.be/event/%ef%bc%98%e6%99%82%e3%83%bc%e5%85%ac%e6%b0%91%e9%a4%a8%e8%8d%89%e5%88%88%e3%82%8a/
CATEGORIES:追分
END:VEVENT
BEGIN:VEVENT
DTSTART;TZID=Asia/Tokyo:20210616T193000
DTEND;TZID=Asia/Tokyo:20210616T210000
DTSTAMP:20260426T084952
CREATED:20210603T092313Z
LAST-MODIFIED:20210603T092313Z
UID:1631-1623871800-1623877200@fukumoto.karuizawa.be
SUMMARY:19時ー追分地域会議
DESCRIPTION:by zoom \n 
URL:https://fukumoto.karuizawa.be/event/oiwake-area-meeting/
CATEGORIES:審議会・各種会議,追分
END:VEVENT
BEGIN:VEVENT
DTSTART;TZID=Asia/Tokyo:20210612T090000
DTEND;TZID=Asia/Tokyo:20210612T170000
DTSTAMP:20260426T084952
CREATED:20210611T115609Z
LAST-MODIFIED:20210611T115609Z
UID:1685-1623488400-1623517200@fukumoto.karuizawa.be
SUMMARY:9時、花いっぱい運動
DESCRIPTION:
URL:https://fukumoto.karuizawa.be/event/9%e6%99%82%e3%80%81%e8%8a%b1%e3%81%84%e3%81%a3%e3%81%b1%e3%81%84%e9%81%8b%e5%8b%95/
CATEGORIES:追分
END:VEVENT
BEGIN:VEVENT
DTSTART;TZID=Asia/Tokyo:20210520T140000
DTEND;TZID=Asia/Tokyo:20210520T170000
DTSTAMP:20260426T084952
CREATED:20210508T092230Z
LAST-MODIFIED:20210508T092248Z
UID:1550-1621519200-1621530000@fukumoto.karuizawa.be
SUMMARY:14時ー地域会議ー追分宿探索
DESCRIPTION:
URL:https://fukumoto.karuizawa.be/event/14%e6%99%82%e3%83%bc%e8%bf%bd%e5%88%86%e5%ae%bf%e6%8e%a2%e7%b4%a2/
CATEGORIES:追分
END:VEVENT
BEGIN:VEVENT
DTSTART;TZID=Asia/Tokyo:20210427T140000
DTEND;TZID=Asia/Tokyo:20210427T170000
DTSTAMP:20260426T084952
CREATED:20210419T013649Z
LAST-MODIFIED:20210419T013649Z
UID:1519-1619532000-1619542800@fukumoto.karuizawa.be
SUMMARY:14時－地域会議
DESCRIPTION:古老に聞く追分。
URL:https://fukumoto.karuizawa.be/event/14%e6%99%82%ef%bc%8d%e5%9c%b0%e5%9f%9f%e4%bc%9a%e8%ad%b0/
CATEGORIES:追分
END:VEVENT
BEGIN:VEVENT
DTSTART;TZID=Asia/Tokyo:20210418T080000
DTEND;TZID=Asia/Tokyo:20210418T080000
DTSTAMP:20260426T084952
CREATED:20210413T024923Z
LAST-MODIFIED:20210413T024923Z
UID:1509-1618732800-1618732800@fukumoto.karuizawa.be
SUMMARY:追分区-4月18日8時より一斉清掃
DESCRIPTION:
URL:https://fukumoto.karuizawa.be/event/%e8%bf%bd%e5%88%86%e5%8c%ba-4%e6%9c%8818%e6%97%a58%e6%99%82%e3%82%88%e3%82%8a%e4%b8%80%e6%96%89%e6%b8%85%e6%8e%83/
CATEGORIES:追分
END:VEVENT
BEGIN:VEVENT
DTSTART;TZID=Asia/Tokyo:20210216T190000
DTEND;TZID=Asia/Tokyo:20210216T210000
DTSTAMP:20260426T084952
CREATED:20210202T105526Z
LAST-MODIFIED:20210202T105526Z
UID:1429-1613502000-1613509200@fukumoto.karuizawa.be
SUMMARY:19時ー地域会議
DESCRIPTION:zoom会議
URL:https://fukumoto.karuizawa.be/event/19%e6%99%82%e3%83%bc%e5%9c%b0%e5%9f%9f%e4%bc%9a%e8%ad%b0-2/
CATEGORIES:追分
END:VEVENT
BEGIN:VEVENT
DTSTART;TZID=Asia/Tokyo:20210201T190000
DTEND;TZID=Asia/Tokyo:20210201T210000
DTSTAMP:20260426T084952
CREATED:20210126T025108Z
LAST-MODIFIED:20210126T025108Z
UID:1411-1612206000-1612213200@fukumoto.karuizawa.be
SUMMARY:19時-運営会議-地域会議
DESCRIPTION:
URL:https://fukumoto.karuizawa.be/event/19%e6%99%82-%e9%81%8b%e5%96%b6%e4%bc%9a%e8%ad%b0-%e5%9c%b0%e5%9f%9f%e4%bc%9a%e8%ad%b0/
CATEGORIES:追分
END:VEVENT
BEGIN:VEVENT
DTSTART;TZID=Asia/Tokyo:20210104T140000
DTEND;TZID=Asia/Tokyo:20210104T170000
DTSTAMP:20260426T084952
CREATED:20201212T015128Z
LAST-MODIFIED:20201221T111003Z
UID:1331-1609768800-1609779600@fukumoto.karuizawa.be
SUMMARY:14時-公民館-馬子唄会議
DESCRIPTION:
URL:https://fukumoto.karuizawa.be/event/14%e6%99%82-%e5%85%ac%e6%b0%91%e9%a4%a8-%e4%bc%9a%e8%ad%b0/
CATEGORIES:審議会・各種会議,追分
END:VEVENT
BEGIN:VEVENT
DTSTART;TZID=Asia/Tokyo:20201221T190000
DTEND;TZID=Asia/Tokyo:20201221T210000
DTSTAMP:20260426T084952
CREATED:20201127T002650Z
LAST-MODIFIED:20201127T002650Z
UID:1263-1608577200-1608584400@fukumoto.karuizawa.be
SUMMARY:19時-追分エリアデザイン運営会議
DESCRIPTION:
URL:https://fukumoto.karuizawa.be/event/oiwake_design20201220/
CATEGORIES:審議会・各種会議,追分
END:VEVENT
BEGIN:VEVENT
DTSTART;TZID=Asia/Tokyo:20201211T133000
DTEND;TZID=Asia/Tokyo:20201211T160000
DTSTAMP:20260426T084952
CREATED:20201130T091746Z
LAST-MODIFIED:20201130T091746Z
UID:1281-1607693400-1607702400@fukumoto.karuizawa.be
SUMMARY:13:30-間伐現地説明会
DESCRIPTION:
URL:https://fukumoto.karuizawa.be/event/forestcheck20201211/
CATEGORIES:研修会・勉強会,追分
END:VEVENT
BEGIN:VEVENT
DTSTART;VALUE=DATE:20201006
DTEND;VALUE=DATE:20201007
DTSTAMP:20260426T084952
CREATED:20201001T010155Z
LAST-MODIFIED:20201001T010155Z
UID:1207-1601942400-1602028799@fukumoto.karuizawa.be
SUMMARY:エリア　デザイン地域会議回覧資料作成
DESCRIPTION:
URL:https://fukumoto.karuizawa.be/event/%e3%82%a8%e3%83%aa%e3%82%a2%e3%80%80%e3%83%87%e3%82%b6%e3%82%a4%e3%83%b3%e5%9c%b0%e5%9f%9f%e4%bc%9a%e8%ad%b0%e5%9b%9e%e8%a6%a7%e8%b3%87%e6%96%99%e4%bd%9c%e6%88%90/
CATEGORIES:追分
END:VEVENT
BEGIN:VEVENT
DTSTART;VALUE=DATE:20200929
DTEND;VALUE=DATE:20200930
DTSTAMP:20260426T084952
CREATED:20200721T051450Z
LAST-MODIFIED:20200721T051712Z
UID:1111-1601337600-1601423999@fukumoto.karuizawa.be
SUMMARY:19時-追分エリアデザイン第二回運営会議
DESCRIPTION:追分公民館
URL:https://fukumoto.karuizawa.be/event/oiwake_areadesign2nd/
CATEGORIES:審議会・各種会議,追分
END:VEVENT
BEGIN:VEVENT
DTSTART;TZID=Asia/Tokyo:20200329T130000
DTEND;TZID=Asia/Tokyo:20200329T170000
DTSTAMP:20260426T084952
CREATED:20200226T031907Z
LAST-MODIFIED:20200226T031907Z
UID:828-1585486800-1585501200@fukumoto.karuizawa.be
SUMMARY:13時 - 追分区区民総会
DESCRIPTION:
URL:https://fukumoto.karuizawa.be/event/13%e6%99%82-%e8%bf%bd%e5%88%86%e5%8c%ba%e5%8c%ba%e6%b0%91%e7%b7%8f%e4%bc%9a/
CATEGORIES:追分
END:VEVENT
BEGIN:VEVENT
DTSTART;TZID=Asia/Tokyo:20191115T133000
DTEND;TZID=Asia/Tokyo:20191115T140000
DTSTAMP:20260426T084952
CREATED:20191111T072126Z
LAST-MODIFIED:20191111T072126Z
UID:620-1573824600-1573826400@fukumoto.karuizawa.be
SUMMARY:つがるや視察
DESCRIPTION:
URL:https://fukumoto.karuizawa.be/event/%e3%81%a4%e3%81%8c%e3%82%8b%e3%82%84%e8%a6%96%e5%af%9f/
CATEGORIES:追分
END:VEVENT
BEGIN:VEVENT
DTSTART;TZID=Asia/Tokyo:20191114T180000
DTEND;TZID=Asia/Tokyo:20191114T200000
DTSTAMP:20260426T084952
CREATED:20191111T085207Z
LAST-MODIFIED:20191111T085207Z
UID:623-1573754400-1573761600@fukumoto.karuizawa.be
SUMMARY:寄り合い
DESCRIPTION:コンテンツは保護されています。
URL:https://fukumoto.karuizawa.be/event/%e5%af%84%e3%82%8a%e5%90%88%e3%81%84/
CATEGORIES:追分
END:VEVENT
BEGIN:VEVENT
DTSTART;TZID=Asia/Tokyo:20191110T100000
DTEND;TZID=Asia/Tokyo:20191110T150000
DTSTAMP:20260426T084952
CREATED:20191022T010037Z
LAST-MODIFIED:20191022T013629Z
UID:552-1573380000-1573398000@fukumoto.karuizawa.be
SUMMARY:追分区ふれあい食事会
DESCRIPTION:受付開始9：30
URL:https://fukumoto.karuizawa.be/event/%e8%bf%bd%e5%88%86%e5%8c%ba%e3%81%b5%e3%82%8c%e3%81%82%e3%81%84%e9%a3%9f%e4%ba%8b%e4%bc%9a/
LOCATION:追分公民館\, 長野県北佐久郡軽井沢町大字追分５２３
CATEGORIES:追分
END:VEVENT
BEGIN:VEVENT
DTSTART;TZID=Asia/Tokyo:20191013T100000
DTEND;TZID=Asia/Tokyo:20191013T110000
DTSTAMP:20260426T084952
CREATED:20191011T014732Z
LAST-MODIFIED:20191011T014732Z
UID:504-1570960800-1570964400@fukumoto.karuizawa.be
SUMMARY:表彰式 - しなの追分写真コンテスト小学生の部
DESCRIPTION:追分秋の味覚市同時開催
URL:https://fukumoto.karuizawa.be/event/%e8%a1%a8%e5%bd%b0%e5%bc%8f-%e3%81%97%e3%81%aa%e3%81%ae%e8%bf%bd%e5%88%86%e5%86%99%e7%9c%9f%e3%82%b3%e3%83%b3%e3%83%86%e3%82%b9%e3%83%88%e5%b0%8f%e5%ad%a6%e7%94%9f%e3%81%ae%e9%83%a8/
LOCATION:追分公民館\, 長野県北佐久郡軽井沢町大字追分５２３
CATEGORIES:追分
END:VEVENT
BEGIN:VEVENT
DTSTART;TZID=Asia/Tokyo:20190922T130000
DTEND;TZID=Asia/Tokyo:20190922T140000
DTSTAMP:20260426T084952
CREATED:20190918T205452Z
LAST-MODIFIED:20190918T205452Z
UID:360-1569157200-1569160800@fukumoto.karuizawa.be
SUMMARY:近藤富枝文学碑除幕式
DESCRIPTION:軽井沢町追分５５５７
URL:https://fukumoto.karuizawa.be/event/%e8%bf%91%e8%97%a4%e5%af%8c%e6%9e%9d%e6%96%87%e5%ad%a6%e7%a2%91%e9%99%a4%e5%b9%95%e5%bc%8f/
CATEGORIES:追分
END:VEVENT
END:VCALENDAR